BEGIN:VCALENDAR
VERSION:2.0
PRODID:-//Rigidized Metals Corporation - ECPv6.15.17.1//NONSGML v1.0//EN
CALSCALE:GREGORIAN
METHOD:PUBLISH
X-ORIGINAL-URL:https://www.rigid.hostsites.me
X-WR-CALDESC:Events for Rigidized Metals Corporation
REFRESH-INTERVAL;VALUE=DURATION:PT1H
X-Robots-Tag:noindex
X-PUBLISHED-TTL:PT1H
BEGIN:VTIMEZONE
TZID:America/New_York
BEGIN:DAYLIGHT
TZOFFSETFROM:-0500
TZOFFSETTO:-0400
TZNAME:EDT
DTSTART:20240310T070000
END:DAYLIGHT
BEGIN:STANDARD
TZOFFSETFROM:-0400
TZOFFSETTO:-0500
TZNAME:EST
DTSTART:20241103T060000
END:STANDARD
BEGIN:DAYLIGHT
TZOFFSETFROM:-0500
TZOFFSETTO:-0400
TZNAME:EDT
DTSTART:20250309T070000
END:DAYLIGHT
BEGIN:STANDARD
TZOFFSETFROM:-0400
TZOFFSETTO:-0500
TZNAME:EST
DTSTART:20251102T060000
END:STANDARD
BEGIN:DAYLIGHT
TZOFFSETFROM:-0500
TZOFFSETTO:-0400
TZNAME:EDT
DTSTART:20260308T070000
END:DAYLIGHT
BEGIN:STANDARD
TZOFFSETFROM:-0400
TZOFFSETTO:-0500
TZNAME:EST
DTSTART:20261101T060000
END:STANDARD
END:VTIMEZONE
BEGIN:VEVENT
DTSTART;VALUE=DATE:20250305
DTEND;VALUE=DATE:20250308
DTSTAMP:20260425T235833
CREATED:20250113T194730Z
LAST-MODIFIED:20250113T194730Z
UID:30544-1741132800-1741391999@www.rigid.hostsites.me
SUMMARY:Work Truck Week
DESCRIPTION:Rigidized® Metals will be exhibiting at the Work Truck Week March 5-7 in Indianapolis\, IN in booth #407.
URL:https://www.rigid.hostsites.me/event/work-truck-week
LOCATION:Indiana Convention Center\, 100 S Capitol Ave\, Indianapolis\, IN\, 46225\, United States
CATEGORIES:General
END:VEVENT
BEGIN:VEVENT
DTSTART;VALUE=DATE:20250325
DTEND;VALUE=DATE:20250328
DTSTAMP:20260425T235833
CREATED:20250212T193007Z
LAST-MODIFIED:20250212T193007Z
UID:30689-1742860800-1743119999@www.rigid.hostsites.me
SUMMARY:AeroMart Montreal
DESCRIPTION:Rigidized® Metals will be attending AeroMart Montreal\, March 25-27.
URL:https://www.rigid.hostsites.me/event/aeromart-montreal
LOCATION:Palais des congrès de Montréal\, 1001 Jean Paul Riopelle Pl\, Montreal\, Quebec\, H2Z 1H5\, Canada
CATEGORIES:General
END:VEVENT
END:VCALENDAR