BEGIN:VCALENDAR
VERSION:2.0
PRODID:-//Rigidized Metals Corporation - ECPv6.15.17.1//NONSGML v1.0//EN
CALSCALE:GREGORIAN
METHOD:PUBLISH
X-ORIGINAL-URL:https://www.rigid.hostsites.me
X-WR-CALDESC:Events for Rigidized Metals Corporation
REFRESH-INTERVAL;VALUE=DURATION:PT1H
X-Robots-Tag:noindex
X-PUBLISHED-TTL:PT1H
BEGIN:VTIMEZONE
TZID:America/New_York
BEGIN:DAYLIGHT
TZOFFSETFROM:-0500
TZOFFSETTO:-0400
TZNAME:EDT
DTSTART:20240310T070000
END:DAYLIGHT
BEGIN:STANDARD
TZOFFSETFROM:-0400
TZOFFSETTO:-0500
TZNAME:EST
DTSTART:20241103T060000
END:STANDARD
BEGIN:DAYLIGHT
TZOFFSETFROM:-0500
TZOFFSETTO:-0400
TZNAME:EDT
DTSTART:20250309T070000
END:DAYLIGHT
BEGIN:STANDARD
TZOFFSETFROM:-0400
TZOFFSETTO:-0500
TZNAME:EST
DTSTART:20251102T060000
END:STANDARD
BEGIN:DAYLIGHT
TZOFFSETFROM:-0500
TZOFFSETTO:-0400
TZNAME:EDT
DTSTART:20260308T070000
END:DAYLIGHT
BEGIN:STANDARD
TZOFFSETFROM:-0400
TZOFFSETTO:-0500
TZNAME:EST
DTSTART:20261101T060000
END:STANDARD
END:VTIMEZONE
BEGIN:VEVENT
DTSTART;VALUE=DATE:20250929
DTEND;VALUE=DATE:20251002
DTSTAMP:20260425T124532
CREATED:20250113T201957Z
LAST-MODIFIED:20250113T201957Z
UID:30590-1759104000-1759363199@www.rigid.hostsites.me
SUMMARY:PackExpo
DESCRIPTION:Rigidized® Metals will be exhibiting at PackExpo September 29 – October 1 in Las Vegas\, NV in booth #SL-21032.
URL:https://www.rigid.hostsites.me/event/packexpo
LOCATION:LAS VEGAS CONVENTION CENTER\, 150 Paradise Rd\, Las Vegas\, NV\, 89109\, United States
CATEGORIES:General
END:VEVENT
BEGIN:VEVENT
DTSTART;VALUE=DATE:20251021
DTEND;VALUE=DATE:20251024
DTSTAMP:20260425T124532
CREATED:20250113T202646Z
LAST-MODIFIED:20250113T202913Z
UID:30602-1761004800-1761263999@www.rigid.hostsites.me
SUMMARY:PackEx Toronto
DESCRIPTION:Rigidized® Metals will be exhibiting at PackEx Toronto October 21-23 in booth #2329.
URL:https://www.rigid.hostsites.me/event/packex-toronto-2
LOCATION:Toronto Congress Centre\, 650 Dixon Rd\, Etobicoke\, Ontario\, M9W 1J1
CATEGORIES:General
END:VEVENT
BEGIN:VEVENT
DTSTART;VALUE=DATE:20251028
DTEND;VALUE=DATE:20251031
DTSTAMP:20260425T124532
CREATED:20250113T203430Z
LAST-MODIFIED:20250113T203430Z
UID:30605-1761609600-1761868799@www.rigid.hostsites.me
SUMMARY:EATS
DESCRIPTION:Rigidized® Metals will be exhibiting at EATS\, formerly Process Expo\, October 28-30 in Chicago\, IL in booth #2605.
URL:https://www.rigid.hostsites.me/event/eats
LOCATION:McCormick Place\, 2301 S King Drive\, Chicago\, IL\, 60616\, United States
CATEGORIES:General
END:VEVENT
END:VCALENDAR