BEGIN:VCALENDAR
VERSION:2.0
PRODID:-//Rigidized Metals Corporation - ECPv6.15.17.1//NONSGML v1.0//EN
CALSCALE:GREGORIAN
METHOD:PUBLISH
X-WR-CALNAME:Rigidized Metals Corporation
X-ORIGINAL-URL:https://www.rigid.hostsites.me
X-WR-CALDESC:Events for Rigidized Metals Corporation
REFRESH-INTERVAL;VALUE=DURATION:PT1H
X-Robots-Tag:noindex
X-PUBLISHED-TTL:PT1H
BEGIN:VTIMEZONE
TZID:America/New_York
BEGIN:DAYLIGHT
TZOFFSETFROM:-0500
TZOFFSETTO:-0400
TZNAME:EDT
DTSTART:20230312T070000
END:DAYLIGHT
BEGIN:STANDARD
TZOFFSETFROM:-0400
TZOFFSETTO:-0500
TZNAME:EST
DTSTART:20231105T060000
END:STANDARD
BEGIN:DAYLIGHT
TZOFFSETFROM:-0500
TZOFFSETTO:-0400
TZNAME:EDT
DTSTART:20240310T070000
END:DAYLIGHT
BEGIN:STANDARD
TZOFFSETFROM:-0400
TZOFFSETTO:-0500
TZNAME:EST
DTSTART:20241103T060000
END:STANDARD
BEGIN:DAYLIGHT
TZOFFSETFROM:-0500
TZOFFSETTO:-0400
TZNAME:EDT
DTSTART:20250309T070000
END:DAYLIGHT
BEGIN:STANDARD
TZOFFSETFROM:-0400
TZOFFSETTO:-0500
TZNAME:EST
DTSTART:20251102T060000
END:STANDARD
END:VTIMEZONE
BEGIN:VEVENT
DTSTART;VALUE=DATE:20241103
DTEND;VALUE=DATE:20241107
DTSTAMP:20260424T230904
CREATED:20231219T220258Z
LAST-MODIFIED:20231219T220258Z
UID:27854-1730592000-1730937599@www.rigid.hostsites.me
SUMMARY:PackExpo International
DESCRIPTION:Rigidized® Metals’ Rigid-Tex® team will be exhibiting at Pack Expo International in Chicago\, IL\, November 3-6\, 2024 in booth #22092.
URL:https://www.rigid.hostsites.me/event/packexpo-international-2
LOCATION:McCormick Place\, 2301 S King Drive\, Chicago\, IL\, 60616\, United States
CATEGORIES:General
END:VEVENT
END:VCALENDAR