BEGIN:VCALENDAR
VERSION:2.0
PRODID:-//Rigidized Metals Corporation - ECPv6.15.17.1//NONSGML v1.0//EN
CALSCALE:GREGORIAN
METHOD:PUBLISH
X-ORIGINAL-URL:https://www.rigid.hostsites.me
X-WR-CALDESC:Events for Rigidized Metals Corporation
REFRESH-INTERVAL;VALUE=DURATION:PT1H
X-Robots-Tag:noindex
X-PUBLISHED-TTL:PT1H
BEGIN:VTIMEZONE
TZID:America/New_York
BEGIN:DAYLIGHT
TZOFFSETFROM:-0500
TZOFFSETTO:-0400
TZNAME:EDT
DTSTART:20230312T070000
END:DAYLIGHT
BEGIN:STANDARD
TZOFFSETFROM:-0400
TZOFFSETTO:-0500
TZNAME:EST
DTSTART:20231105T060000
END:STANDARD
BEGIN:DAYLIGHT
TZOFFSETFROM:-0500
TZOFFSETTO:-0400
TZNAME:EDT
DTSTART:20240310T070000
END:DAYLIGHT
BEGIN:STANDARD
TZOFFSETFROM:-0400
TZOFFSETTO:-0500
TZNAME:EST
DTSTART:20241103T060000
END:STANDARD
BEGIN:DAYLIGHT
TZOFFSETFROM:-0500
TZOFFSETTO:-0400
TZNAME:EDT
DTSTART:20250309T070000
END:DAYLIGHT
BEGIN:STANDARD
TZOFFSETFROM:-0400
TZOFFSETTO:-0500
TZNAME:EST
DTSTART:20251102T060000
END:STANDARD
END:VTIMEZONE
BEGIN:VEVENT
DTSTART;VALUE=DATE:20240610
DTEND;VALUE=DATE:20240613
DTSTAMP:20260425T072312
CREATED:20231219T214256Z
LAST-MODIFIED:20231219T214256Z
UID:27841-1717977600-1718236799@www.rigid.hostsites.me
SUMMARY:NeoCon
DESCRIPTION:Rigidized® Metals’ Architectural team will be exhibiting at NeoCon in Chicago\, IL\, June 10-12\, 2024 in booth #7-1093.
URL:https://www.rigid.hostsites.me/event/neocon-4
LOCATION:The Mart\, 222 Merchandise Mart Plaza\, Suite 470\, Chicago\, IL\, 60654\, United States
CATEGORIES:General
END:VEVENT
END:VCALENDAR