BEGIN:VCALENDAR
VERSION:2.0
PRODID:-//Rigidized Metals Corporation - ECPv6.15.17.1//NONSGML v1.0//EN
CALSCALE:GREGORIAN
METHOD:PUBLISH
X-WR-CALNAME:Rigidized Metals Corporation
X-ORIGINAL-URL:https://www.rigid.hostsites.me
X-WR-CALDESC:Events for Rigidized Metals Corporation
REFRESH-INTERVAL;VALUE=DURATION:PT1H
X-Robots-Tag:noindex
X-PUBLISHED-TTL:PT1H
BEGIN:VTIMEZONE
TZID:America/New_York
BEGIN:DAYLIGHT
TZOFFSETFROM:-0500
TZOFFSETTO:-0400
TZNAME:EDT
DTSTART:20250309T070000
END:DAYLIGHT
BEGIN:STANDARD
TZOFFSETFROM:-0400
TZOFFSETTO:-0500
TZNAME:EST
DTSTART:20251102T060000
END:STANDARD
BEGIN:DAYLIGHT
TZOFFSETFROM:-0500
TZOFFSETTO:-0400
TZNAME:EDT
DTSTART:20260308T070000
END:DAYLIGHT
BEGIN:STANDARD
TZOFFSETFROM:-0400
TZOFFSETTO:-0500
TZNAME:EST
DTSTART:20261101T060000
END:STANDARD
BEGIN:DAYLIGHT
TZOFFSETFROM:-0500
TZOFFSETTO:-0400
TZNAME:EDT
DTSTART:20270314T070000
END:DAYLIGHT
BEGIN:STANDARD
TZOFFSETFROM:-0400
TZOFFSETTO:-0500
TZNAME:EST
DTSTART:20271107T060000
END:STANDARD
END:VTIMEZONE
BEGIN:VEVENT
DTSTART;VALUE=DATE:20261105
DTEND;VALUE=DATE:20261107
DTSTAMP:20260420T142201
CREATED:20260106T154910Z
LAST-MODIFIED:20260106T154910Z
UID:33598-1793836800-1794009599@www.rigid.hostsites.me
SUMMARY:Facades+ LA
DESCRIPTION:Rigidized® Metals’ Architectural team will be exhibiting at Facades+ LA\, November 5-6.
URL:https://www.rigid.hostsites.me/event/facades-la-4
CATEGORIES:General
END:VEVENT
BEGIN:VEVENT
DTSTART;VALUE=DATE:20261110
DTEND;VALUE=DATE:20261112
DTSTAMP:20260420T142201
CREATED:20260129T140958Z
LAST-MODIFIED:20260129T140958Z
UID:33710-1794268800-1794441599@www.rigid.hostsites.me
SUMMARY:Ferries
DESCRIPTION:Rigidized® Metals’ Marine team will be exhibiting at Ferries in Seattle\, WA\, November 10-11.
URL:https://www.rigid.hostsites.me/event/ferries
LOCATION:Hyatt at Olive 8\, 1635 8th Ave\, Seattle\, WA\, 98101\, United States
CATEGORIES:General
END:VEVENT
BEGIN:VEVENT
DTSTART;VALUE=DATE:20261111
DTEND;VALUE=DATE:20261114
DTSTAMP:20260420T142201
CREATED:20260106T165157Z
LAST-MODIFIED:20260106T165157Z
UID:33656-1794355200-1794614399@www.rigid.hostsites.me
SUMMARY:AIA Colorado Practice + Design Conference
DESCRIPTION:Rigidized® Metals’ Architectural team will be exhibiting at the AIA Colorado Practice + Design Conference in Keystone\, CO\, November 11-13.
URL:https://www.rigid.hostsites.me/event/aia-colorado-practice-design-conference
LOCATION:Keystone Conference Center\, 633 Tennis Club Rd\, Dillon\, CO\, 80435\, United States
CATEGORIES:General
END:VEVENT
BEGIN:VEVENT
DTSTART;VALUE=DATE:20261119
DTEND;VALUE=DATE:20261120
DTSTAMP:20260420T142201
CREATED:20260106T155003Z
LAST-MODIFIED:20260106T155003Z
UID:33601-1795046400-1795132799@www.rigid.hostsites.me
SUMMARY:Facades+ Nashville
DESCRIPTION:Rigidized® Metals’ Architectural team will be exhibiting at Facades+ Nashville on November 19.
URL:https://www.rigid.hostsites.me/event/facades-nashville-2
CATEGORIES:General
END:VEVENT
BEGIN:VEVENT
DTSTART;VALUE=DATE:20261119
DTEND;VALUE=DATE:20261123
DTSTAMP:20260420T142201
CREATED:20260219T185129Z
LAST-MODIFIED:20260219T185129Z
UID:33765-1795046400-1795391999@www.rigid.hostsites.me
SUMMARY:BOND Arc-US
DESCRIPTION:Rigidized® Metals will be at BOND Arc-US November 19-22 in Orlando\, FL.
URL:https://www.rigid.hostsites.me/event/bond-arc-us-5
LOCATION:JW Marriott Orlando\, Grande Lakes\, Orlando\, FL\, 32837\, United States
CATEGORIES:General
END:VEVENT
END:VCALENDAR