BEGIN:VCALENDAR
VERSION:2.0
PRODID:-//Rigidized Metals Corporation - ECPv6.15.17.1//NONSGML v1.0//EN
CALSCALE:GREGORIAN
METHOD:PUBLISH
X-WR-CALNAME:Rigidized Metals Corporation
X-ORIGINAL-URL:https://www.rigid.hostsites.me
X-WR-CALDESC:Events for Rigidized Metals Corporation
REFRESH-INTERVAL;VALUE=DURATION:PT1H
X-Robots-Tag:noindex
X-PUBLISHED-TTL:PT1H
BEGIN:VTIMEZONE
TZID:America/New_York
BEGIN:DAYLIGHT
TZOFFSETFROM:-0500
TZOFFSETTO:-0400
TZNAME:EDT
DTSTART:20240310T070000
END:DAYLIGHT
BEGIN:STANDARD
TZOFFSETFROM:-0400
TZOFFSETTO:-0500
TZNAME:EST
DTSTART:20241103T060000
END:STANDARD
BEGIN:DAYLIGHT
TZOFFSETFROM:-0500
TZOFFSETTO:-0400
TZNAME:EDT
DTSTART:20250309T070000
END:DAYLIGHT
BEGIN:STANDARD
TZOFFSETFROM:-0400
TZOFFSETTO:-0500
TZNAME:EST
DTSTART:20251102T060000
END:STANDARD
BEGIN:DAYLIGHT
TZOFFSETFROM:-0500
TZOFFSETTO:-0400
TZNAME:EDT
DTSTART:20260308T070000
END:DAYLIGHT
BEGIN:STANDARD
TZOFFSETFROM:-0400
TZOFFSETTO:-0500
TZNAME:EST
DTSTART:20261101T060000
END:STANDARD
END:VTIMEZONE
BEGIN:VEVENT
DTSTART;VALUE=DATE:20250908
DTEND;VALUE=DATE:20250912
DTSTAMP:20260424T041956
CREATED:20250113T200856Z
LAST-MODIFIED:20250113T200856Z
UID:30576-1757289600-1757635199@www.rigid.hostsites.me
SUMMARY:FABTECH
DESCRIPTION:Rigidized® Metals will be exhibiting at FABTECH September 8-11 in Chicago\, IL in booth #A3321.
URL:https://www.rigid.hostsites.me/event/fabtech-6
LOCATION:McCormick Place\, 2301 S King Drive\, Chicago\, IL\, 60616\, United States
CATEGORIES:General
END:VEVENT
BEGIN:VEVENT
DTSTART;VALUE=DATE:20250912
DTEND;VALUE=DATE:20250913
DTSTAMP:20260424T041956
CREATED:20250113T201729Z
LAST-MODIFIED:20250113T201729Z
UID:30587-1757635200-1757721599@www.rigid.hostsites.me
SUMMARY:Facades+ Chicago
DESCRIPTION:Rigidized® Metals will be exhibiting at Facades+ Chicago on September 12.
URL:https://www.rigid.hostsites.me/event/facades-chicago
CATEGORIES:General
END:VEVENT
BEGIN:VEVENT
DTSTART;VALUE=DATE:20250915
DTEND;VALUE=DATE:20250919
DTSTAMP:20260424T041956
CREATED:20250113T201128Z
LAST-MODIFIED:20250113T201128Z
UID:30579-1757894400-1758239999@www.rigid.hostsites.me
SUMMARY:NAEC
DESCRIPTION:Rigidized® Metals will be exhibiting at the NAEC Convention September 15-18 in Houston\, TX in booth #407.
URL:https://www.rigid.hostsites.me/event/naec-5
LOCATION:George R. Brown Convention Center\, 1001 Avenida De Las Americas\, Houston\, TX\, 77010\, United States
CATEGORIES:General
END:VEVENT
BEGIN:VEVENT
DTSTART;VALUE=DATE:20250918
DTEND;VALUE=DATE:20250922
DTSTAMP:20260424T041956
CREATED:20250113T201429Z
LAST-MODIFIED:20250113T201446Z
UID:30582-1758153600-1758499199@www.rigid.hostsites.me
SUMMARY:BOND Arc-Interiors
DESCRIPTION:Rigidized® Metals will be at BOND Arc-Interiors September 18-21.
URL:https://www.rigid.hostsites.me/event/bond-arc-interiors-4
CATEGORIES:General
END:VEVENT
BEGIN:VEVENT
DTSTART;VALUE=DATE:20250929
DTEND;VALUE=DATE:20251002
DTSTAMP:20260424T041956
CREATED:20250113T201957Z
LAST-MODIFIED:20250113T201957Z
UID:30590-1759104000-1759363199@www.rigid.hostsites.me
SUMMARY:PackExpo
DESCRIPTION:Rigidized® Metals will be exhibiting at PackExpo September 29 – October 1 in Las Vegas\, NV in booth #SL-21032.
URL:https://www.rigid.hostsites.me/event/packexpo
LOCATION:LAS VEGAS CONVENTION CENTER\, 150 Paradise Rd\, Las Vegas\, NV\, 89109\, United States
CATEGORIES:General
END:VEVENT
END:VCALENDAR