BEGIN:VCALENDAR
VERSION:2.0
PRODID:-//Rigidized Metals Corporation - ECPv6.15.17.1//NONSGML v1.0//EN
CALSCALE:GREGORIAN
METHOD:PUBLISH
X-ORIGINAL-URL:https://www.rigid.hostsites.me
X-WR-CALDESC:Events for Rigidized Metals Corporation
REFRESH-INTERVAL;VALUE=DURATION:PT1H
X-Robots-Tag:noindex
X-PUBLISHED-TTL:PT1H
BEGIN:VTIMEZONE
TZID:America/New_York
BEGIN:DAYLIGHT
TZOFFSETFROM:-0500
TZOFFSETTO:-0400
TZNAME:EDT
DTSTART:20230312T070000
END:DAYLIGHT
BEGIN:STANDARD
TZOFFSETFROM:-0400
TZOFFSETTO:-0500
TZNAME:EST
DTSTART:20231105T060000
END:STANDARD
BEGIN:DAYLIGHT
TZOFFSETFROM:-0500
TZOFFSETTO:-0400
TZNAME:EDT
DTSTART:20240310T070000
END:DAYLIGHT
BEGIN:STANDARD
TZOFFSETFROM:-0400
TZOFFSETTO:-0500
TZNAME:EST
DTSTART:20241103T060000
END:STANDARD
BEGIN:DAYLIGHT
TZOFFSETFROM:-0500
TZOFFSETTO:-0400
TZNAME:EDT
DTSTART:20250309T070000
END:DAYLIGHT
BEGIN:STANDARD
TZOFFSETFROM:-0400
TZOFFSETTO:-0500
TZNAME:EST
DTSTART:20251102T060000
END:STANDARD
END:VTIMEZONE
BEGIN:VEVENT
DTSTART;VALUE=DATE:20241011
DTEND;VALUE=DATE:20241012
DTSTAMP:20260424T231025
CREATED:20231219T213928Z
LAST-MODIFIED:20231219T213928Z
UID:27835-1728604800-1728691199@www.rigid.hostsites.me
SUMMARY:Zak World of Facades - NYC
DESCRIPTION:Rigidized® Metals’ Architectural team will be exhibiting at the Zak World of Facades in New York City on October 11\, 2024.
URL:https://www.rigid.hostsites.me/event/zak-world-of-facades-nyc
CATEGORIES:General
END:VEVENT
BEGIN:VEVENT
DTSTART;VALUE=DATE:20241015
DTEND;VALUE=DATE:20241018
DTSTAMP:20260424T231025
CREATED:20231219T215644Z
LAST-MODIFIED:20231219T215644Z
UID:27850-1728950400-1729209599@www.rigid.hostsites.me
SUMMARY:FABTECH
DESCRIPTION:Rigidized® Metals’ Rigid-Tex® team will be exhibiting at FABTECH in Orlando\, FL\, October 15-17\, 2024 in booth #S17181.
URL:https://www.rigid.hostsites.me/event/fabtech-5
LOCATION:Orange County Convention Center\, 9800 International Drive\, Orlando\, Florida\, 32819
CATEGORIES:General
END:VEVENT
BEGIN:VEVENT
DTSTART;VALUE=DATE:20241016
DTEND;VALUE=DATE:20241018
DTSTAMP:20260424T231025
CREATED:20240530T142748Z
LAST-MODIFIED:20240530T142748Z
UID:29361-1729036800-1729209599@www.rigid.hostsites.me
SUMMARY:Heat Exchanger World
DESCRIPTION:Rigidized® Metals’ Vipertex® team will be exhibiting at Heat Exchanger World in Houston\, TX\, October 16-17 in booth number 2213.
URL:https://www.rigid.hostsites.me/event/heat-exchanger-world
LOCATION:NRG Convention Center\, 1 Fannin St\, \, Houston\, NY\, 77054\, United States
CATEGORIES:General
END:VEVENT
BEGIN:VEVENT
DTSTART;VALUE=DATE:20241018
DTEND;VALUE=DATE:20241019
DTSTAMP:20260424T231025
CREATED:20240912T153043Z
LAST-MODIFIED:20240912T153043Z
UID:29835-1729209600-1729295999@www.rigid.hostsites.me
SUMMARY:Facades+ Toronto
DESCRIPTION:Rigidized® Metals will be exhibiting at Facades+ in Toronto\, Ontario\, on October 18\, 2024.
URL:https://www.rigid.hostsites.me/event/facades-toronto-3
CATEGORIES:General
END:VEVENT
BEGIN:VEVENT
DTSTART;VALUE=DATE:20241029
DTEND;VALUE=DATE:20241031
DTSTAMP:20260424T231025
CREATED:20231221T134712Z
LAST-MODIFIED:20231221T134712Z
UID:27861-1730160000-1730332799@www.rigid.hostsites.me
SUMMARY:Marine Log Ferries
DESCRIPTION:Rigidized® Metals’ Marine team will be exhibiting at the Marine Log Ferries Conference in Seattle\, WA\, October 29-30\, 2024.
URL:https://www.rigid.hostsites.me/event/marine-log-ferries
LOCATION:Hyatt at Olive 8\, 1635 8th Ave\, Seattle\, WA\, 98101\, United States
CATEGORIES:General
END:VEVENT
BEGIN:VEVENT
DTSTART;VALUE=DATE:20241031
DTEND;VALUE=DATE:20241101
DTSTAMP:20260424T231025
CREATED:20240226T181337Z
LAST-MODIFIED:20240226T181337Z
UID:28213-1730332800-1730419199@www.rigid.hostsites.me
SUMMARY:Facades+ Austin
DESCRIPTION:Rigidized® Metals’ Architectural team will be exhibiting at Facades+ Austin on October 31\, 2024.
URL:https://www.rigid.hostsites.me/event/facades-austin-3
CATEGORIES:General
END:VEVENT
END:VCALENDAR