BEGIN:VCALENDAR
VERSION:2.0
PRODID:-//Rigidized Metals Corporation - ECPv6.15.17.1//NONSGML v1.0//EN
CALSCALE:GREGORIAN
METHOD:PUBLISH
X-ORIGINAL-URL:https://www.rigid.hostsites.me
X-WR-CALDESC:Events for Rigidized Metals Corporation
REFRESH-INTERVAL;VALUE=DURATION:PT1H
X-Robots-Tag:noindex
X-PUBLISHED-TTL:PT1H
BEGIN:VTIMEZONE
TZID:America/New_York
BEGIN:DAYLIGHT
TZOFFSETFROM:-0500
TZOFFSETTO:-0400
TZNAME:EDT
DTSTART:20230312T070000
END:DAYLIGHT
BEGIN:STANDARD
TZOFFSETFROM:-0400
TZOFFSETTO:-0500
TZNAME:EST
DTSTART:20231105T060000
END:STANDARD
BEGIN:DAYLIGHT
TZOFFSETFROM:-0500
TZOFFSETTO:-0400
TZNAME:EDT
DTSTART:20240310T070000
END:DAYLIGHT
BEGIN:STANDARD
TZOFFSETFROM:-0400
TZOFFSETTO:-0500
TZNAME:EST
DTSTART:20241103T060000
END:STANDARD
BEGIN:DAYLIGHT
TZOFFSETFROM:-0500
TZOFFSETTO:-0400
TZNAME:EDT
DTSTART:20250309T070000
END:DAYLIGHT
BEGIN:STANDARD
TZOFFSETFROM:-0400
TZOFFSETTO:-0500
TZNAME:EST
DTSTART:20251102T060000
END:STANDARD
END:VTIMEZONE
BEGIN:VEVENT
DTSTART;VALUE=DATE:20240404
DTEND;VALUE=DATE:20240406
DTSTAMP:20260425T103125
CREATED:20231219T212322Z
LAST-MODIFIED:20231219T212322Z
UID:27813-1712188800-1712361599@www.rigid.hostsites.me
SUMMARY:Facades+ NYC
DESCRIPTION:Rigidized® Metals’ Architectural team will be exhibiting at Facades+ New York City\, April 4-5\, 2024.
URL:https://www.rigid.hostsites.me/event/facades-nyc-4
CATEGORIES:General
END:VEVENT
BEGIN:VEVENT
DTSTART;VALUE=DATE:20240410
DTEND;VALUE=DATE:20240412
DTSTAMP:20260425T103125
CREATED:20231219T213611Z
LAST-MODIFIED:20231219T213611Z
UID:27829-1712707200-1712879999@www.rigid.hostsites.me
SUMMARY:Process & Packaging Expo
DESCRIPTION:Rigidized® Metals’ Rigid-Tex® team will be exhibiting at the Food Northwest Process & Packaging Expo in Portland\, OR\, April 10-11\, 2024 in booth #928.
URL:https://www.rigid.hostsites.me/event/process-packaging-expo-2
LOCATION:Oregon Convention Center\, 777 NE Martin Luther King Jr Blvd\, Portland\, OR\, 97232\, United States
CATEGORIES:General
END:VEVENT
BEGIN:VEVENT
DTSTART;VALUE=DATE:20240418
DTEND;VALUE=DATE:20240419
DTSTAMP:20260425T103125
CREATED:20231219T213825Z
LAST-MODIFIED:20231219T213825Z
UID:27832-1713398400-1713484799@www.rigid.hostsites.me
SUMMARY:Zak World of Facades - Los Angeles
DESCRIPTION:Rigidized® Metals’ Architectural team will be exhibiting at the Zak World of Facades in Los Angeles\, April 18\, 2024.
URL:https://www.rigid.hostsites.me/event/zak-world-of-facades-los-angeles
CATEGORIES:General
END:VEVENT
BEGIN:VEVENT
DTSTART;VALUE=DATE:20240419
DTEND;VALUE=DATE:20240420
DTSTAMP:20260425T103125
CREATED:20231219T212435Z
LAST-MODIFIED:20231219T212435Z
UID:27817-1713484800-1713571199@www.rigid.hostsites.me
SUMMARY:Facades+ Nashville
DESCRIPTION:Rigidized® Metals’ Architectural team will be exhibiting at Facades+ Nashville on April 19\, 2024.
URL:https://www.rigid.hostsites.me/event/facades-nashville
CATEGORIES:General
END:VEVENT
BEGIN:VEVENT
DTSTART;VALUE=DATE:20240430
DTEND;VALUE=DATE:20240503
DTSTAMP:20260425T103125
CREATED:20231219T214058Z
LAST-MODIFIED:20231219T214058Z
UID:27838-1714435200-1714694399@www.rigid.hostsites.me
SUMMARY:HD Expo
DESCRIPTION:Rigidized® Metals’ Architectural team will be exhibiting at HD Expo in Las Vegas\, NV\, April 30-May 2\, 2024 in booth #3038.
URL:https://www.rigid.hostsites.me/event/hd-expo-4
LOCATION:Mandalay Bay Convention Center\, 3950 S Las Vegas Blvd\, Las Vegas\, NV\, 89119\, United States
CATEGORIES:General
END:VEVENT
END:VCALENDAR